BEGIN:VCALENDAR
VERSION:2.0
PRODID:-//StateCollege.com - ECPv6.15.12.2//NONSGML v1.0//EN
CALSCALE:GREGORIAN
METHOD:PUBLISH
X-WR-CALNAME:StateCollege.com
X-ORIGINAL-URL:https://test.statecollege.com
X-WR-CALDESC:Events for StateCollege.com
REFRESH-INTERVAL;VALUE=DURATION:PT1H
X-Robots-Tag:noindex
X-PUBLISHED-TTL:PT1H
BEGIN:VTIMEZONE
TZID:America/New_York
BEGIN:DAYLIGHT
TZOFFSETFROM:-0500
TZOFFSETTO:-0400
TZNAME:EDT
DTSTART:20240310T070000
END:DAYLIGHT
BEGIN:STANDARD
TZOFFSETFROM:-0400
TZOFFSETTO:-0500
TZNAME:EST
DTSTART:20241103T060000
END:STANDARD
BEGIN:DAYLIGHT
TZOFFSETFROM:-0500
TZOFFSETTO:-0400
TZNAME:EDT
DTSTART:20250309T070000
END:DAYLIGHT
BEGIN:STANDARD
TZOFFSETFROM:-0400
TZOFFSETTO:-0500
TZNAME:EST
DTSTART:20251102T060000
END:STANDARD
BEGIN:DAYLIGHT
TZOFFSETFROM:-0500
TZOFFSETTO:-0400
TZNAME:EDT
DTSTART:20260308T070000
END:DAYLIGHT
BEGIN:STANDARD
TZOFFSETFROM:-0400
TZOFFSETTO:-0500
TZNAME:EST
DTSTART:20261101T060000
END:STANDARD
BEGIN:DAYLIGHT
TZOFFSETFROM:-0500
TZOFFSETTO:-0400
TZNAME:EDT
DTSTART:20270314T070000
END:DAYLIGHT
BEGIN:STANDARD
TZOFFSETFROM:-0400
TZOFFSETTO:-0500
TZNAME:EST
DTSTART:20271107T060000
END:STANDARD
END:VTIMEZONE
BEGIN:VEVENT
DTSTART;TZID=America/New_York:20251206T103000
DTEND;TZID=America/New_York:20261206T110000
DTSTAMP:20260421T172756
CREATED:20251113T215306Z
LAST-MODIFIED:20251121T201737Z
UID:10068435-1765017000-1796554800@test.statecollege.com
SUMMARY:Frost Fest Storytime
DESCRIPTION:Join a children’s staff member for a wintry-themed storytime! Recommended for ages 2-6No registration required \n\nSpecial Events
URL:https://test.statecollege.com/event/frost-fest-storytime/
LOCATION:Schlow Centre Region Library\, 211 S. Allen St.\, State College\, PA\, 16801\, United States
END:VEVENT
BEGIN:VEVENT
DTSTART;TZID=America/New_York:20260422T103000
DTEND;TZID=America/New_York:20260422T110000
DTSTAMP:20260421T172756
CREATED:20251013T190238Z
LAST-MODIFIED:20251013T191031Z
UID:10068164-1776853800-1776855600@test.statecollege.com
SUMMARY:Preschool Storytime - Holt Memorial Library
DESCRIPTION:Join us at the library for fun stories\, songs\, calendar time\, crafts and play! For kids ages 3-5. There is no need to register. \n\nSpecial Events
URL:https://test.statecollege.com/event/preschool-storytime-holt-memorial-library/2026-04-22/
LOCATION:Holt Memorial Library in Philipsburg\, 17 N. Front St.\, Philipsburg\, 16866
ATTACH;FMTTYPE=image/png:https://test.statecollege.com/wp-content/uploads/2025/10/PreschoolStorytime-BrandieShingledecker.png
ORGANIZER;CN="Centre County Library and Historical Museum":MAILTO:eschwartz@centrecountylibrary.org
END:VEVENT
BEGIN:VEVENT
DTSTART;TZID=America/New_York:20260423T190000
DTEND;TZID=America/New_York:20260423T220000
DTSTAMP:20260421T172756
CREATED:20250925T174201Z
LAST-MODIFIED:20250925T175406Z
UID:10067328-1776970800-1776981600@test.statecollege.com
SUMMARY:Jeff Dunham
DESCRIPTION:Get ready to laugh out loud when internationally acclaimed comedian and ventriloquist Jeff Dunham brings his Artificial Intelligence Tour to the Bryce Jordan Center on Thursday\, April 23\, 2026. \n\n\n\n\nSpecial Events
URL:https://test.statecollege.com/event/jeff-dunham/
LOCATION:Bryce Jordan Center\, 127 Bryce Jordan Center\, University Park\, PA\, United States
CATEGORIES:Comedy
ATTACH;FMTTYPE=image/jpeg:https://test.statecollege.com/wp-content/uploads/2025/09/JD-042326-1440x600-BJC-Website.jpg
END:VEVENT
BEGIN:VEVENT
DTSTART;TZID=America/New_York:20260424T170000
DTEND;TZID=America/New_York:20260424T190000
DTSTAMP:20260421T172756
CREATED:20250329T222718Z
LAST-MODIFIED:20250331T172430Z
UID:10063714-1777050000-1777057200@test.statecollege.com
SUMMARY:Storytelling Game Night
DESCRIPTION:Storytelling Game Night. Each week there will be a new game being hosted\, where players can create characters\, worlds\, and stories together. In addition\, a collection of storytelling games for groups and individuals is kept in the back room; any time it’s unoccupied\, this collection is open and free to use in that room. \n\nSpecial Events
URL:https://test.statecollege.com/event/storytelling-game-night/2026-04-24/
LOCATION:Print Factory Bellefonte\, 130 S. Allegheny St.\, Bellefonte\, 16823
ATTACH;FMTTYPE=image/png:https://test.statecollege.com/wp-content/uploads/2025/03/e6e255_4a38e4985eec4b199948ca0b0f2170famv2.png
END:VEVENT
BEGIN:VEVENT
DTSTART;TZID=America/New_York:20260424T200000
DTEND;TZID=America/New_York:20260424T203000
DTSTAMP:20260421T172756
CREATED:20251117T193631Z
LAST-MODIFIED:20251117T193633Z
UID:10068442-1777060800-1777062600@test.statecollege.com
SUMMARY:A Boogie Wit Da Hoodie
DESCRIPTION:Platinum Entertainment Group is excited to announce the highly-anticipated concert of the year as the Bronx-bred superstar A Boogie Wit Da Hoodie takes the stage at the Bryce Jordan Center on Friday\, April 24\, 2026. The event promises to be an unforgettable night of hip-hop and entertainment. \n\n\n\n\nSpecial Events
URL:https://test.statecollege.com/event/a-boogie-wit-da-hoodie/
LOCATION:Bryce Jordan Center\, 127 Bryce Jordan Center\, University Park\, PA\, United States
CATEGORIES:Concerts
ATTACH;FMTTYPE=image/jpeg:https://test.statecollege.com/wp-content/uploads/2025/11/ABoogie0424_1440x600.jpg
END:VEVENT
BEGIN:VEVENT
DTSTART;TZID=America/New_York:20260424T200000
DTEND;TZID=America/New_York:20260424T220000
DTSTAMP:20260421T172756
CREATED:20251121T185140Z
LAST-MODIFIED:20251121T185142Z
UID:10068601-1777060800-1777068000@test.statecollege.com
SUMMARY:Killer Queen – A Tribute To Queen
DESCRIPTION:We Will Rock You! The world’s premier tribute band\, Killer Queen\, hits The State Theatre stage! Get ready for an epic night of Queen’s greatest hits. Tickets on sale now! \n\n\n\n\nSpecial Events
URL:https://test.statecollege.com/event/killer-queen-a-tribute-to-queen/
LOCATION:The State Theatre\, 130 W College Avenue\, State College\, PA\, 16801\, United States
CATEGORIES:Concerts
ATTACH;FMTTYPE=image/avif:https://test.statecollege.com/wp-content/uploads/2025/11/1920x1080_SLIDE-KILLER-QUEEN-1536x864-1.avif
END:VEVENT
BEGIN:VEVENT
DTSTART;TZID=America/New_York:20260426T160000
DTEND;TZID=America/New_York:20260426T173000
DTSTAMP:20260421T172756
CREATED:20250329T222151Z
LAST-MODIFIED:20250331T172429Z
UID:10063454-1777219200-1777224600@test.statecollege.com
SUMMARY:Print Factory Writing Group
DESCRIPTION:We are a new writing group aimed at connecting and supporting local writers. Every week\, we devote part of our session to getting to know each other and our projects\, and part of our session to “shut up and write” -style coworking time. Everyone is welcome to bring a project they’d like to work on or a book they’d like to read during these sprints! \n\nSpecial Events
URL:https://test.statecollege.com/event/print-factory-writing-group/2026-04-26/
LOCATION:Print Factory Bellefonte\, 130 S. Allegheny St.\, Bellefonte\, 16823
ATTACH;FMTTYPE=image/jpeg:https://test.statecollege.com/wp-content/uploads/2025/03/e6e255_50b9d3c9a4674f2882aefa815dd36e72mv2.jpg
END:VEVENT
BEGIN:VEVENT
DTSTART;TZID=America/New_York:20260426T200000
DTEND;TZID=America/New_York:20260426T220000
DTSTAMP:20260421T172756
CREATED:20251121T185332Z
LAST-MODIFIED:20251121T185334Z
UID:10068602-1777233600-1777240800@test.statecollege.com
SUMMARY:Duane Betts & Palmetto Motel
DESCRIPTION:The Southern Rock Torch is Lit! Duane Betts & Palmetto Motel bring searing guitar solos and deep grooves to The State Theatre on Sun\, April 26. Don’t miss this evolution of the classic sound! \n\n\n\n\nSpecial Events
URL:https://test.statecollege.com/event/duane-betts-palmetto-motel/
LOCATION:The State Theatre\, 130 W College Avenue\, State College\, PA\, 16801\, United States
CATEGORIES:Concerts
ATTACH;FMTTYPE=image/avif:https://test.statecollege.com/wp-content/uploads/2025/11/1920x1080_duane-betts_SLIDE-1536x864-1.avif
END:VEVENT
BEGIN:VEVENT
DTSTART;TZID=America/New_York:20260430T190000
DTEND;TZID=America/New_York:20260430T210000
DTSTAMP:20260421T172756
CREATED:20250329T225303Z
LAST-MODIFIED:20250331T172431Z
UID:10063949-1777575600-1777582800@test.statecollege.com
SUMMARY:Open Mic at the Print Factory
DESCRIPTION:Join us bi-weekly for a time of singing\, storytelling\, and poetry. We welcome original work and covers. Doors open at 6:30pm for sign in and performances start at 7pm. All talents welcome. \n\nSpecial Events
URL:https://test.statecollege.com/event/open-mic-at-the-print-factory/2026-04-30/
LOCATION:Print Factory Bellefonte\, 130 S. Allegheny St.\, Bellefonte\, 16823
ATTACH;FMTTYPE=image/jpeg:https://test.statecollege.com/wp-content/uploads/2025/03/e6e255_7e0aa16a32504c7997d8d35528ddeb82mv2.jpg
END:VEVENT
BEGIN:VEVENT
DTSTART;TZID=America/New_York:20260509T090000
DTEND;TZID=America/New_York:20260509T200000
DTSTAMP:20260421T172756
CREATED:20251123T194816Z
LAST-MODIFIED:20251124T142742Z
UID:10068623-1778317200-1778356800@test.statecollege.com
SUMMARY:AAUW State College Used Book Sale
DESCRIPTION:MARK YOUR CALENDARS! The AAUW State College will take place May 9-12\, 2026 at the Penn State Snider Ag Arena! Sale proceeds are changing the climate for women and girls in Centre County\, through undergraduate scholarships and grants to local organizations reflecting the AAUW mission. You can find more information about the sale at bit.ly/AAUWBookSale. We look forward to seeing you there!Note the times that we are open each day:Saturday\, May 9: 9am-8pmSunday\, May 10: 9am-8pmMonday\, May 11: 9am-8pmTuesday\, May 12: 9am-7pm**closing at 7pm on the last day gives our volunteers more time to clean up! \n\n\n\n\nSpecial Events
URL:https://test.statecollege.com/event/aauw-state-college-used-book-sale/2026-05-09/
LOCATION:Penn State Ag Arena\, 800 East Park Avenue\, State College\, 16803
CATEGORIES:Special Events
ATTACH;FMTTYPE=image/jpeg:https://test.statecollege.com/wp-content/uploads/2025/11/Sale-Overview-4.jpg
ORGANIZER;CN="AAUW State College":MAILTO:info@aauwstatecollege.org
END:VEVENT
BEGIN:VEVENT
DTSTART;TZID=America/New_York:20260512T190000
DTEND;TZID=America/New_York:20260512T210000
DTSTAMP:20260421T172756
CREATED:20250224T171053Z
LAST-MODIFIED:20250224T171055Z
UID:10061319-1778612400-1778619600@test.statecollege.com
SUMMARY:Discover the Joy of Cigars with the Women’s Cigar Club
DESCRIPTION:Are you ready to ignite your passion for cigars in a welcoming and vibrant community? The Women’s Cigar Club at Your Cigar Den is the perfect gathering for women who love cigars—or are simply curious about them! \nOn the 2nd Tuesday of every month at 7:00 PM\, our North Store transforms into a haven of connection\, learning\, and indulgence. Women from all walks of life come together to celebrate the art of cigar smoking in an environment that’s warm\, inclusive\, and brimming with camaraderie. \nEach meeting features a carefully selected cigar paired with delightful accompaniments—whether it’s a smooth cocktail\, a fine wine\, luscious chocolate\, or other thoughtfully chosen pairings. These pairings aren’t just treats for the senses; they’re gateways to discovering the stories\, flavors\, and craftsmanship that make each cigar unique. \nWhether you’re a seasoned aficionado or lighting up for the first time\, the Women’s Cigar Club is your chance to explore the cigar lifestyle in a relaxed and friendly setting. Bring your friends or come solo—you’ll leave with new knowledge\, new connections\, and a newfound appreciation for the world of cigars. \nNo RSVP needed. Just drop by\, and let the experience unfold. We can’t wait to welcome you.
URL:https://test.statecollege.com/event/discover-the-joy-of-cigars-with-the-womens-cigar-club/2026-05-12/
LOCATION:Your Cigar Den\, 355 Colonnade Blvd\, State College\, 16803
CATEGORIES:Club Events
ATTACH;FMTTYPE=image/jpeg:https://test.statecollege.com/wp-content/uploads/2025/02/womenscigarclub.jpg
ORGANIZER;CN="Your Cigar Den":MAILTO:info@yourcigarden.com
END:VEVENT
BEGIN:VEVENT
DTSTART;TZID=America/New_York:20260527T193000
DTEND;TZID=America/New_York:20260527T223000
DTSTAMP:20260421T172756
CREATED:20251106T185909Z
LAST-MODIFIED:20251106T185913Z
UID:10068365-1779910200-1779921000@test.statecollege.com
SUMMARY:Journey
DESCRIPTION:After decades of electrifying performances\, chart-topping hits\, and unforgettable moments\, the iconic rock band JOURNEY is saying goodbye the only way they know how — with a thunderous\, full-throttle FINAL FRONTIER TOUR spanning cities across North America.  \n\n\n\n\nSpecial Events
URL:https://test.statecollege.com/event/journey/
LOCATION:Bryce Jordan Center\, 127 Bryce Jordan Center\, University Park\, PA\, United States
CATEGORIES:Concerts
ATTACH;FMTTYPE=image/png:https://test.statecollege.com/wp-content/uploads/2025/11/Journey_05.27.26_1440x600.png
END:VEVENT
BEGIN:VEVENT
DTSTART;TZID=America/New_York:20261011T193000
DTEND;TZID=America/New_York:20261011T220000
DTSTAMP:20260421T172756
CREATED:20251117T201939Z
LAST-MODIFIED:20251117T201941Z
UID:10068443-1791747000-1791756000@test.statecollege.com
SUMMARY:'Weird Al' Yankovic
DESCRIPTION:Weird Al brings his legendary full-production multimedia comedy rock show back to the concert stage with the BIGGER & WEIRDER 2026 Tour\, playing his iconic hits as well as some never- performed-live-before fan favorites. Al’s long-time band is joined by four additional players to create a super-sized concert experience. \n\n\n\n\nSpecial Events
URL:https://test.statecollege.com/event/weird-al-yankovic/
LOCATION:Bryce Jordan Center\, 127 Bryce Jordan Center\, University Park\, PA\, United States
CATEGORIES:Comedy,Concerts
ATTACH;FMTTYPE=image/jpeg:https://test.statecollege.com/wp-content/uploads/2025/11/Static_Venue-Billboard_1440x600_WeirdAl_2026_Regional_BryceJordanCenter_1011.psd_.jpg
END:VEVENT
END:VCALENDAR